BEGIN:VCALENDAR
VERSION:2.0
PRODID:-//Vänsterpartiet Södermalm - ECPv6.15.20//NONSGML v1.0//EN
CALSCALE:GREGORIAN
METHOD:PUBLISH
X-ORIGINAL-URL:https://sodermalm.vansterpartiet.se
X-WR-CALDESC:Händelser för Vänsterpartiet Södermalm
REFRESH-INTERVAL;VALUE=DURATION:PT1H
X-Robots-Tag:noindex
X-PUBLISHED-TTL:PT1H
BEGIN:VTIMEZONE
TZID:Europe/Stockholm
BEGIN:DAYLIGHT
TZOFFSETFROM:+0100
TZOFFSETTO:+0200
TZNAME:CEST
DTSTART:20250330T010000
END:DAYLIGHT
BEGIN:STANDARD
TZOFFSETFROM:+0200
TZOFFSETTO:+0100
TZNAME:CET
DTSTART:20251026T010000
END:STANDARD
BEGIN:DAYLIGHT
TZOFFSETFROM:+0100
TZOFFSETTO:+0200
TZNAME:CEST
DTSTART:20260329T010000
END:DAYLIGHT
BEGIN:STANDARD
TZOFFSETFROM:+0200
TZOFFSETTO:+0100
TZNAME:CET
DTSTART:20261025T010000
END:STANDARD
BEGIN:DAYLIGHT
TZOFFSETFROM:+0100
TZOFFSETTO:+0200
TZNAME:CEST
DTSTART:20270328T010000
END:DAYLIGHT
BEGIN:STANDARD
TZOFFSETFROM:+0200
TZOFFSETTO:+0100
TZNAME:CET
DTSTART:20271031T010000
END:STANDARD
END:VTIMEZONE
BEGIN:VEVENT
DTSTART;TZID=Europe/Stockholm:20260312T180000
DTEND;TZID=Europe/Stockholm:20260312T190000
DTSTAMP:20260424T215511
CREATED:20260219T090816Z
LAST-MODIFIED:20260219T090936Z
UID:892-1773338400-1773342000@sodermalm.vansterpartiet.se
SUMMARY:Ny bokcirkel startar 12 mars
DESCRIPTION:Vi träffas på Cafe Blå Lotus på Katarina Bangata 21\nKl. 18.00.\nAlla är välkomna! \nMejla gärna styrelsen och berätta om du kommer.🙋🏻‍♀️ \nKontakta Vita Bergen på sodermalm@vansterpartiet.se \nKontakta Västra Södermalm på vastrasodermalm@vansterpartiet.se
URL:https://sodermalm.vansterpartiet.se/event/ny-bokcirkel-startar-12-mars/
LOCATION:Cafe Blå Lotus\, Katarina Bangata 21\, 116 39\, Sweden
END:VEVENT
END:VCALENDAR