BEGIN:VCALENDAR
VERSION:2.0
PRODID:-//Vänsterpartiet Södermalm - ECPv6.15.20//NONSGML v1.0//EN
CALSCALE:GREGORIAN
METHOD:PUBLISH
X-ORIGINAL-URL:https://sodermalm.vansterpartiet.se
X-WR-CALDESC:Händelser för Vänsterpartiet Södermalm
REFRESH-INTERVAL;VALUE=DURATION:PT1H
X-Robots-Tag:noindex
X-PUBLISHED-TTL:PT1H
BEGIN:VTIMEZONE
TZID:Europe/Stockholm
BEGIN:DAYLIGHT
TZOFFSETFROM:+0100
TZOFFSETTO:+0200
TZNAME:CEST
DTSTART:20250330T010000
END:DAYLIGHT
BEGIN:STANDARD
TZOFFSETFROM:+0200
TZOFFSETTO:+0100
TZNAME:CET
DTSTART:20251026T010000
END:STANDARD
BEGIN:DAYLIGHT
TZOFFSETFROM:+0100
TZOFFSETTO:+0200
TZNAME:CEST
DTSTART:20260329T010000
END:DAYLIGHT
BEGIN:STANDARD
TZOFFSETFROM:+0200
TZOFFSETTO:+0100
TZNAME:CET
DTSTART:20261025T010000
END:STANDARD
BEGIN:DAYLIGHT
TZOFFSETFROM:+0100
TZOFFSETTO:+0200
TZNAME:CEST
DTSTART:20270328T010000
END:DAYLIGHT
BEGIN:STANDARD
TZOFFSETFROM:+0200
TZOFFSETTO:+0100
TZNAME:CET
DTSTART:20271031T010000
END:STANDARD
END:VTIMEZONE
BEGIN:VEVENT
DTSTART;TZID=Europe/Stockholm:20260221T120000
DTEND;TZID=Europe/Stockholm:20260221T140000
DTSTAMP:20260424T231454
CREATED:20260219T090041Z
LAST-MODIFIED:20260219T090048Z
UID:885-1771675200-1771682400@sodermalm.vansterpartiet.se
SUMMARY:Röd lördag i Götgatsbacken
DESCRIPTION:Nu på lördag träffas vi i Götgatsbacken för att bjuda på kaffe och prata politik!\nKom och delta! Här är ett bra sätt att lära känna varandra och att föra vårt budskap till medborgare inför valet.\nVi träffas  12 -14.\nHåll utkik efter cykeln.
URL:https://sodermalm.vansterpartiet.se/event/rod-lordag-i-gotgatsbacken/
LOCATION:Götgatsbacken\, Götgatsbacken
END:VEVENT
BEGIN:VEVENT
DTSTART;TZID=Europe/Stockholm:20260224T180000
DTEND;TZID=Europe/Stockholm:20260224T200000
DTSTAMP:20260424T231454
CREATED:20260219T085833Z
LAST-MODIFIED:20260219T085833Z
UID:882-1771956000-1771963200@sodermalm.vansterpartiet.se
SUMMARY:Kom och lyssna på Tony Haddou\, riksdagsledamot (V)
DESCRIPTION:Vad händer\, Sverige? Vi är nu ett land som utvisar bebisar och tonåringar utan sina familjer\, motiverat med att Sverige ska ha en ”stram migrationspolitik”. Hur blev det såhär? Och ännu viktigare – hur kan vi ändra på det?\nKom och ställ frågor och diskutera.\nAlla är välkomna (man behöver ej vara medlem) och vi bjuder på tilltugg!
URL:https://sodermalm.vansterpartiet.se/event/kom-och-lyssna-pa-tony-haddou-riksdagsledamot-v/
LOCATION:Il Merlo\, Wollmar Yxkullsg. 10\, Sweden
END:VEVENT
BEGIN:VEVENT
DTSTART;TZID=Europe/Stockholm:20260225T180000
DTEND;TZID=Europe/Stockholm:20260225T220000
DTSTAMP:20260424T231454
CREATED:20260219T090228Z
LAST-MODIFIED:20260219T090228Z
UID:888-1772042400-1772056800@sodermalm.vansterpartiet.se
SUMMARY:AW på Söders Hjärta ❤️
DESCRIPTION:Den 25 februari träffas vi som vanligt på Söders Hjärta från 18.00
URL:https://sodermalm.vansterpartiet.se/event/aw-pa-soders-hjarta-%e2%9d%a4%ef%b8%8f/
END:VEVENT
END:VCALENDAR