BEGIN:VCALENDAR
VERSION:2.0
PRODID:-//Vänsterpartiet Södermalm - ECPv6.15.20//NONSGML v1.0//EN
CALSCALE:GREGORIAN
METHOD:PUBLISH
X-WR-CALNAME:Vänsterpartiet Södermalm
X-ORIGINAL-URL:https://sodermalm.vansterpartiet.se
X-WR-CALDESC:Händelser för Vänsterpartiet Södermalm
REFRESH-INTERVAL;VALUE=DURATION:PT1H
X-Robots-Tag:noindex
X-PUBLISHED-TTL:PT1H
BEGIN:VTIMEZONE
TZID:Europe/Stockholm
BEGIN:DAYLIGHT
TZOFFSETFROM:+0100
TZOFFSETTO:+0200
TZNAME:CEST
DTSTART:20240331T010000
END:DAYLIGHT
BEGIN:STANDARD
TZOFFSETFROM:+0200
TZOFFSETTO:+0100
TZNAME:CET
DTSTART:20241027T010000
END:STANDARD
BEGIN:DAYLIGHT
TZOFFSETFROM:+0100
TZOFFSETTO:+0200
TZNAME:CEST
DTSTART:20250330T010000
END:DAYLIGHT
BEGIN:STANDARD
TZOFFSETFROM:+0200
TZOFFSETTO:+0100
TZNAME:CET
DTSTART:20251026T010000
END:STANDARD
BEGIN:DAYLIGHT
TZOFFSETFROM:+0100
TZOFFSETTO:+0200
TZNAME:CEST
DTSTART:20260329T010000
END:DAYLIGHT
BEGIN:STANDARD
TZOFFSETFROM:+0200
TZOFFSETTO:+0100
TZNAME:CET
DTSTART:20261025T010000
END:STANDARD
BEGIN:DAYLIGHT
TZOFFSETFROM:+0100
TZOFFSETTO:+0200
TZNAME:CEST
DTSTART:20270328T010000
END:DAYLIGHT
BEGIN:STANDARD
TZOFFSETFROM:+0200
TZOFFSETTO:+0100
TZNAME:CET
DTSTART:20271031T010000
END:STANDARD
END:VTIMEZONE
BEGIN:VEVENT
DTSTART;TZID=Europe/Stockholm:20250129T180000
DTEND;TZID=Europe/Stockholm:20250129T200000
DTSTAMP:20260425T174012
CREATED:20241015T191737Z
LAST-MODIFIED:20241223T121225Z
UID:780-1738173600-1738180800@sodermalm.vansterpartiet.se
SUMMARY:Urholkningen av LSS – möte om funkpolitik
DESCRIPTION:LSS är en rättighetslag som kom för att säkra att personer med stora funktionsnedsättningar skulle kunna ha goda livsvillkor och kunna leva som andra. Uppmärksammade fall och olika brukarorganisationer vittnar dock om det är en kamp att få sina rättigheter tillgodosedda och att återkommande nedskärningar allvarligt begränsar de friheter LSS skulle ge. Hur kan det vara så i ett välfärdsland som Sverige och vad vill Vänsterpartiet göra? \nPå mötet berättar Anders Lago\, ordförande riksförbundet FUB\, om hur LSS fungerar idag. Därefter diskuterar vi tillsammans med Nadja Awad\, funkpolitisk talesperson för V och Björn Häll Kellerman\, ledarmot i kommunstyrelsens råd för funktionshinderfrågor för V i Stockholms stad. \nFika från 18:00\, mötet startar 18:30. \nLokalen är tillgänglig för rullstol
URL:https://sodermalm.vansterpartiet.se/event/urholkningen-av-lss-mote-om-funkpolitik/
LOCATION:Lilla Södergården\, Björns trädgård
END:VEVENT
BEGIN:VEVENT
DTSTART;TZID=Europe/Stockholm:20250222T120000
DTEND;TZID=Europe/Stockholm:20250222T140000
DTSTAMP:20260425T174012
CREATED:20250207T084413Z
LAST-MODIFIED:20250207T084413Z
UID:814-1740225600-1740232800@sodermalm.vansterpartiet.se
SUMMARY:Röd lördag
DESCRIPTION:Häng med på Röd lördag utanför Ringen (Skanstull). Vi ger oss ut för att dela ut flygblad och kaffe till medborgare på Södermalm och pratar politik. Röd lördag är ett suveränt tillfälle för dig som är ny och vill lära känna dina kamrater. \nÄr du nervös inför att följa med? Det finns alltid erfarna partikamrater på plats som hjälper dig med både argument och tar med sig kaffe. \nVi ses på Röd lördag!
URL:https://sodermalm.vansterpartiet.se/event/rod-lordag-2/
LOCATION:Utanför Ringen (Skanstull)
END:VEVENT
BEGIN:VEVENT
DTSTART;TZID=Europe/Stockholm:20250322T120000
DTEND;TZID=Europe/Stockholm:20250322T140000
DTSTAMP:20260425T174012
CREATED:20250319T092244Z
LAST-MODIFIED:20250319T092244Z
UID:819-1742644800-1742652000@sodermalm.vansterpartiet.se
SUMMARY:Röd Lördag
DESCRIPTION:Häng med på Röd lördag på Götsgatsbacken. Vi ger oss ut för att dela ut flygblad och kaffe till medborgare på Södermalm och pratar politik. Röd lördag är ett suveränt tillfälle för dig som är ny och vill lära känna dina kamrater. \nÄr du nervös inför att följa med? Det finns alltid erfarna partikamrater på plats som hjälper dig med både argument och tar med sig kaffe. \nVi ses på Röd lördag! \nPlats: Götgatsbacken
URL:https://sodermalm.vansterpartiet.se/event/rod-lordag-3/
LOCATION:Götgatsbacken\, Götgatsbacken
END:VEVENT
BEGIN:VEVENT
DTSTART;TZID=Europe/Stockholm:20250330T080000
DTEND;TZID=Europe/Stockholm:20250330T100000
DTSTAMP:20260425T174012
CREATED:20250319T092422Z
LAST-MODIFIED:20250319T092422Z
UID:821-1743321600-1743328800@sodermalm.vansterpartiet.se
SUMMARY:Dela ut glad eid godis och flyers vid moskén
DESCRIPTION:30 mars kommer muslimer från hela Stockholm för att be Eid bönen i stora moskén i medborgarplatsen! \nVi vill gärna dela ut glad eid godis och flyers till dem som deltar på bönen för att hjälpa till och göra detta till en speciell dag för alla som firar! \nDärför vill vi gröna bjuda med er för att hjälpa till! Bönen sker i 3 omgångar (pga det höga trycket) vid 07\, 08 och 09. Stå gärna med oss hela tiden från kl 8 eller en stund om det funkar bra för dig!
URL:https://sodermalm.vansterpartiet.se/event/dela-ut-glad-eid-godis-och-flyers-vid-mosken/
END:VEVENT
BEGIN:VEVENT
DTSTART;TZID=Europe/Stockholm:20250514T180000
DTEND;TZID=Europe/Stockholm:20250514T200000
DTSTAMP:20260425T174012
CREATED:20250514T090710Z
LAST-MODIFIED:20250514T090710Z
UID:835-1747245600-1747252800@sodermalm.vansterpartiet.se
SUMMARY:Försvarspolitik ur ett vänsterperspektiv
DESCRIPTION:Det planeras en kraftig militär upprustning i Europa och även i Sverige höjs försvarsanslagen. \nÄr Sverige hotat? Vad krävs för att ett litet land som Sverige ska kunna försvara sig? Vilken betydelse har en fungerande sjukvård\, energiförsörjning\, fungerande järnväg och annan infrastruktur? Vilket är förhållandet mellan det rent militära och det civila totalförsvaret? \nKom och hör Hanna Gunnarsson\, Vänsterpartiets försvarspolitiska talesperson och ledamot av försvarsutskottet. Vi bjuder på fika!
URL:https://sodermalm.vansterpartiet.se/event/forsvarspolitik-ur-ett-vansterperspektiv/
LOCATION:Havregatan 4\, Havregatan 4
END:VEVENT
BEGIN:VEVENT
DTSTART;TZID=Europe/Stockholm:20250602T180000
DTEND;TZID=Europe/Stockholm:20250602T200000
DTSTAMP:20260425T174012
CREATED:20250514T090859Z
LAST-MODIFIED:20250514T090936Z
UID:837-1748887200-1748894400@sodermalm.vansterpartiet.se
SUMMARY:Medlemsmöte: lokalpolitik Söder/Sthlm!
DESCRIPTION:2 juni får vi besök av Vänsterpartiets företrädare i Södermalm stadsdelsnämnd och Stockholms stadshus som berättar om vänsterns politik lokalt! Sedan diskuterar vi tillsammans kring vilka priorteringar och vilken politik som vi tycker är viktigt att driva.  \nFika kl 18\, mötesstart 1830.  \nLokal: Tullgårdsgatan 36. Lokalen är tillgänglig för rullstol. Välkommen! \n Efter mötet har partiföreningen Västra Södermalm ett separat kort möte där vi väljer vem vi ska nominera som ersättare till Södermalm SDN.
URL:https://sodermalm.vansterpartiet.se/event/medlemsmote-lokalpolitik-soder-sthlm/
LOCATION:Tullgårdsgatan 36\, Tullgårdsgatan 36\, Stockholm\, Sverige
END:VEVENT
BEGIN:VEVENT
DTSTART;TZID=Europe/Stockholm:20251001T180000
DTEND;TZID=Europe/Stockholm:20251001T180000
DTSTAMP:20260425T174012
CREATED:20250905T132651Z
LAST-MODIFIED:20250905T132651Z
UID:843-1759341600-1759341600@sodermalm.vansterpartiet.se
SUMMARY:Världspolitik med Håkan Svenneling
DESCRIPTION:Onsdag 1 oktober kommer Håkan Svenneling\, utrikespolitisk talesperson för Vänsterpartiet till oss för att djupdyka ner i världens mest brännande frågor.\nVad driver Vänsterpartiet i utrikespolitiken? Hur kan vi stå upp mot orättvisor\, förtryck och korruption i en tid av global osäkerhet? Vi debatterar läget i Palestina och hur vänstern kan förhålla sig till det som händer där och i hela Mellanöstern. Vi diskuterar även andra länder\, där förtryck och korruption undergräver mänskliga rättigheter och fred.\n \nTid: 18.30 (fika från 18.00) \nPlats: Södergården\, Götgatan 37\, Blå salongen
URL:https://sodermalm.vansterpartiet.se/event/varldspolitik-med-hakan-svenneling/
LOCATION:Södergården\, Götgatan 37\, Blå salongen\, Götgatan 37\, Stockholm\, Sverige
END:VEVENT
BEGIN:VEVENT
DTSTART;TZID=Europe/Stockholm:20251015T180000
DTEND;TZID=Europe/Stockholm:20251015T180000
DTSTAMP:20260425T174012
CREATED:20250922T182524Z
LAST-MODIFIED:20250922T182633Z
UID:858-1760551200-1760551200@sodermalm.vansterpartiet.se
SUMMARY:AI och demokratins framtid
DESCRIPTION:Panelsamtal med Alice Berggren\, redaktör på bokförlaget Daidalos\, och våra riksdagspolitiker Vasiliki Tsouplaki och Malin Östh. Vi kommer diskutera hur AIs framväxt kan tänkas påverka dagens och framtidens demokrati\, och hur vårt parti ska förhålla oss till det. Kommer vi lämna vårt öde åt en klok AI eller bli vilseledda av elaka propagandabottar? \nFika kl 18:00\, mötesstart 18:30.
URL:https://sodermalm.vansterpartiet.se/event/ai-och-demokratins-framtid/
LOCATION:Södergården\, Götgatan 37\, Blå salongen\, Götgatan 37\, Stockholm\, Sverige
END:VEVENT
BEGIN:VEVENT
DTSTART;TZID=Europe/Stockholm:20251120T180000
DTEND;TZID=Europe/Stockholm:20251120T200000
DTSTAMP:20260425T174012
CREATED:20251129T121709Z
LAST-MODIFIED:20251129T121709Z
UID:874-1763661600-1763668800@sodermalm.vansterpartiet.se
SUMMARY:Möte partistyrelsen
DESCRIPTION:Kom och träffa partistyrelsen och diskutera valstrategin! Isabell Mixter från PS besöker Södermalm. Öppet för medlemmar. Fika från 18\, möte 1830. Lokalen är tillgänglig för rullstol. Välkommen!
URL:https://sodermalm.vansterpartiet.se/event/mote-partistyrelsen-2025/
LOCATION:Lilla Södergården\, Björns trädgård
END:VEVENT
BEGIN:VEVENT
DTSTART;TZID=Europe/Stockholm:20251208T180000
DTEND;TZID=Europe/Stockholm:20251208T200000
DTSTAMP:20260425T174012
CREATED:20251129T121543Z
LAST-MODIFIED:20251129T121543Z
UID:872-1765216800-1765224000@sodermalm.vansterpartiet.se
SUMMARY:Sjukvårdspolitik
DESCRIPTION:Vänsterpartiet det nya sjukvårdspartiet\, sade Nooshi på Vänsterdagarna.\nVilken sjukvårdspolitik driver Vänsterpartiet? Kom och träffa Karin Rågsjö sjukvårdspolitisk talesperson och Jonas Lindberg sjuksköterska\, oppositionsråd och VU-ledamot.
URL:https://sodermalm.vansterpartiet.se/event/sjukvardspolitik-2025/
LOCATION:Södergården\, Götgatan 37\, Blå salongen\, Götgatan 37\, Stockholm\, Sverige
END:VEVENT
BEGIN:VEVENT
DTSTART;TZID=Europe/Stockholm:20251210T190000
DTEND;TZID=Europe/Stockholm:20251210T210000
DTSTAMP:20260425T174012
CREATED:20251129T121350Z
LAST-MODIFIED:20251129T121350Z
UID:869-1765393200-1765400400@sodermalm.vansterpartiet.se
SUMMARY:Julavslut!
DESCRIPTION:Välkommen till Södermalmsvänsterns julavslut! Vi bjuder på palestinsk plockmat\, våra lokala företrädare peppar om vänsterpolitik på Söder och Rana från Palestinarörelsen peppar för att fortsätta kampen. 10 dec kl 19 på Falafelbaren på Hornsgatan. Begränsat antal platser så kom i tid för rött julmys!
URL:https://sodermalm.vansterpartiet.se/event/julavslut-2025/
LOCATION:Falafelbaren\, Hornsgatan 39B\, Stockholm\, 11849\, Sweden
END:VEVENT
BEGIN:VEVENT
DTSTART;TZID=Europe/Stockholm:20260221T120000
DTEND;TZID=Europe/Stockholm:20260221T140000
DTSTAMP:20260425T174012
CREATED:20260219T090041Z
LAST-MODIFIED:20260219T090048Z
UID:885-1771675200-1771682400@sodermalm.vansterpartiet.se
SUMMARY:Röd lördag i Götgatsbacken
DESCRIPTION:Nu på lördag träffas vi i Götgatsbacken för att bjuda på kaffe och prata politik!\nKom och delta! Här är ett bra sätt att lära känna varandra och att föra vårt budskap till medborgare inför valet.\nVi träffas  12 -14.\nHåll utkik efter cykeln.
URL:https://sodermalm.vansterpartiet.se/event/rod-lordag-i-gotgatsbacken/
LOCATION:Götgatsbacken\, Götgatsbacken
END:VEVENT
BEGIN:VEVENT
DTSTART;TZID=Europe/Stockholm:20260224T180000
DTEND;TZID=Europe/Stockholm:20260224T200000
DTSTAMP:20260425T174012
CREATED:20260219T085833Z
LAST-MODIFIED:20260219T085833Z
UID:882-1771956000-1771963200@sodermalm.vansterpartiet.se
SUMMARY:Kom och lyssna på Tony Haddou\, riksdagsledamot (V)
DESCRIPTION:Vad händer\, Sverige? Vi är nu ett land som utvisar bebisar och tonåringar utan sina familjer\, motiverat med att Sverige ska ha en ”stram migrationspolitik”. Hur blev det såhär? Och ännu viktigare – hur kan vi ändra på det?\nKom och ställ frågor och diskutera.\nAlla är välkomna (man behöver ej vara medlem) och vi bjuder på tilltugg!
URL:https://sodermalm.vansterpartiet.se/event/kom-och-lyssna-pa-tony-haddou-riksdagsledamot-v/
LOCATION:Il Merlo\, Wollmar Yxkullsg. 10\, Sweden
END:VEVENT
BEGIN:VEVENT
DTSTART;TZID=Europe/Stockholm:20260225T180000
DTEND;TZID=Europe/Stockholm:20260225T220000
DTSTAMP:20260425T174012
CREATED:20260219T090228Z
LAST-MODIFIED:20260219T090228Z
UID:888-1772042400-1772056800@sodermalm.vansterpartiet.se
SUMMARY:AW på Söders Hjärta ❤️
DESCRIPTION:Den 25 februari träffas vi som vanligt på Söders Hjärta från 18.00
URL:https://sodermalm.vansterpartiet.se/event/aw-pa-soders-hjarta-%e2%9d%a4%ef%b8%8f/
END:VEVENT
BEGIN:VEVENT
DTSTART;TZID=Europe/Stockholm:20260312T180000
DTEND;TZID=Europe/Stockholm:20260312T190000
DTSTAMP:20260425T174012
CREATED:20260219T090816Z
LAST-MODIFIED:20260219T090936Z
UID:892-1773338400-1773342000@sodermalm.vansterpartiet.se
SUMMARY:Ny bokcirkel startar 12 mars
DESCRIPTION:Vi träffas på Cafe Blå Lotus på Katarina Bangata 21\nKl. 18.00.\nAlla är välkomna! \nMejla gärna styrelsen och berätta om du kommer.🙋🏻‍♀️ \nKontakta Vita Bergen på sodermalm@vansterpartiet.se \nKontakta Västra Södermalm på vastrasodermalm@vansterpartiet.se
URL:https://sodermalm.vansterpartiet.se/event/ny-bokcirkel-startar-12-mars/
LOCATION:Cafe Blå Lotus\, Katarina Bangata 21\, 116 39\, Sweden
END:VEVENT
BEGIN:VEVENT
DTSTART;TZID=Europe/Stockholm:20260411T130000
DTEND;TZID=Europe/Stockholm:20260411T150000
DTSTAMP:20260425T174012
CREATED:20260330T081905Z
LAST-MODIFIED:20260401T140709Z
UID:904-1775912400-1775919600@sodermalm.vansterpartiet.se
SUMMARY:Dörrknackning Södermalm
DESCRIPTION:Den viktigaste valstrategin är att knacka dörr på Söder tillsammans med kamrater. \nDet kan låta läskigt att delta i dörrknackning men det är alltid både roligt och givande och man är aldrig ensam\, en erfaren kamrat kommer alltid finnas nära till hands. \nEfter sessionen kommer vi också se till att samlas för att dela erfarenheter\, kanske över en kaffe eller öl. Kaptenen/erna har med sig material och pepp så kom som du är och ta med dig ett gott humör! \nAktuella tillfällen:\n–   11 april\, kl 13-15\n–   9 maj\, kl 13-15\n–   13 juni\, kl 13-15 \nSamlingsplatser meddelas när datumet närmar sig\, skicka gärna en anmälan om du vill vara med till vastrasodermalm@vansterpartiet.se
URL:https://sodermalm.vansterpartiet.se/event/dorrknackning-sodermalm/
LOCATION:Zinkensdamm tunnelbaneuppgång\, Zinkensdamm Tunnelbaneuppgång\, Stoockholm\, 11726\, Sweden
END:VEVENT
BEGIN:VEVENT
DTSTART;TZID=Europe/Stockholm:20260421T183000
DTEND;TZID=Europe/Stockholm:20260421T200000
DTSTAMP:20260425T174012
CREATED:20260324T211829Z
LAST-MODIFIED:20260324T211829Z
UID:901-1776796200-1776801600@sodermalm.vansterpartiet.se
SUMMARY:Vill du veta vad som händer i kommunen – på riktigt?
DESCRIPTION:Välkommen till ett öppet möte där Alexandra Mattsson berättar om det\nkommunpolitiska arbetet just nu – valplattformen\, vad som är på gång och hur besluten\ntas.\nRepresentanter från ”repskapet” finns också på plats för att lyssna\, svara på frågor och\nprata om sitt engagemang.
URL:https://sodermalm.vansterpartiet.se/event/vill-du-veta-vad-som-hander-i-kommunen-pa-riktigt/
LOCATION:Södergården\, Götgatan 37\, Blå salongen\, Götgatan 37\, Stockholm\, Sverige
END:VEVENT
END:VCALENDAR