BEGIN:VCALENDAR
VERSION:2.0
PRODID:-//Vänsterpartiet Södermalm - ECPv6.15.20//NONSGML v1.0//EN
CALSCALE:GREGORIAN
METHOD:PUBLISH
X-WR-CALNAME:Vänsterpartiet Södermalm
X-ORIGINAL-URL:https://sodermalm.vansterpartiet.se
X-WR-CALDESC:Händelser för Vänsterpartiet Södermalm
REFRESH-INTERVAL;VALUE=DURATION:PT1H
X-Robots-Tag:noindex
X-PUBLISHED-TTL:PT1H
BEGIN:VTIMEZONE
TZID:Europe/Stockholm
BEGIN:DAYLIGHT
TZOFFSETFROM:+0100
TZOFFSETTO:+0200
TZNAME:CEST
DTSTART:20240331T010000
END:DAYLIGHT
BEGIN:STANDARD
TZOFFSETFROM:+0200
TZOFFSETTO:+0100
TZNAME:CET
DTSTART:20241027T010000
END:STANDARD
BEGIN:DAYLIGHT
TZOFFSETFROM:+0100
TZOFFSETTO:+0200
TZNAME:CEST
DTSTART:20250330T010000
END:DAYLIGHT
BEGIN:STANDARD
TZOFFSETFROM:+0200
TZOFFSETTO:+0100
TZNAME:CET
DTSTART:20251026T010000
END:STANDARD
BEGIN:DAYLIGHT
TZOFFSETFROM:+0100
TZOFFSETTO:+0200
TZNAME:CEST
DTSTART:20260329T010000
END:DAYLIGHT
BEGIN:STANDARD
TZOFFSETFROM:+0200
TZOFFSETTO:+0100
TZNAME:CET
DTSTART:20261025T010000
END:STANDARD
END:VTIMEZONE
BEGIN:VEVENT
DTSTART;TZID=Europe/Stockholm:20251120T180000
DTEND;TZID=Europe/Stockholm:20251120T200000
DTSTAMP:20260425T040953
CREATED:20251129T121709Z
LAST-MODIFIED:20251129T121709Z
UID:874-1763661600-1763668800@sodermalm.vansterpartiet.se
SUMMARY:Möte partistyrelsen
DESCRIPTION:Kom och träffa partistyrelsen och diskutera valstrategin! Isabell Mixter från PS besöker Södermalm. Öppet för medlemmar. Fika från 18\, möte 1830. Lokalen är tillgänglig för rullstol. Välkommen!
URL:https://sodermalm.vansterpartiet.se/event/mote-partistyrelsen-2025/
LOCATION:Lilla Södergården\, Björns trädgård
END:VEVENT
END:VCALENDAR