BEGIN:VCALENDAR
VERSION:2.0
PRODID:-//Vänsterpartiet Södermalm - ECPv6.15.20//NONSGML v1.0//EN
CALSCALE:GREGORIAN
METHOD:PUBLISH
X-WR-CALNAME:Vänsterpartiet Södermalm
X-ORIGINAL-URL:https://sodermalm.vansterpartiet.se
X-WR-CALDESC:Händelser för Vänsterpartiet Södermalm
REFRESH-INTERVAL;VALUE=DURATION:PT1H
X-Robots-Tag:noindex
X-PUBLISHED-TTL:PT1H
BEGIN:VTIMEZONE
TZID:Europe/Stockholm
BEGIN:DAYLIGHT
TZOFFSETFROM:+0100
TZOFFSETTO:+0200
TZNAME:CEST
DTSTART:20240331T010000
END:DAYLIGHT
BEGIN:STANDARD
TZOFFSETFROM:+0200
TZOFFSETTO:+0100
TZNAME:CET
DTSTART:20241027T010000
END:STANDARD
BEGIN:DAYLIGHT
TZOFFSETFROM:+0100
TZOFFSETTO:+0200
TZNAME:CEST
DTSTART:20250330T010000
END:DAYLIGHT
BEGIN:STANDARD
TZOFFSETFROM:+0200
TZOFFSETTO:+0100
TZNAME:CET
DTSTART:20251026T010000
END:STANDARD
BEGIN:DAYLIGHT
TZOFFSETFROM:+0100
TZOFFSETTO:+0200
TZNAME:CEST
DTSTART:20260329T010000
END:DAYLIGHT
BEGIN:STANDARD
TZOFFSETFROM:+0200
TZOFFSETTO:+0100
TZNAME:CET
DTSTART:20261025T010000
END:STANDARD
END:VTIMEZONE
BEGIN:VEVENT
DTSTART;TZID=Europe/Stockholm:20251015T180000
DTEND;TZID=Europe/Stockholm:20251015T180000
DTSTAMP:20260425T053947
CREATED:20250922T182524Z
LAST-MODIFIED:20250922T182633Z
UID:858-1760551200-1760551200@sodermalm.vansterpartiet.se
SUMMARY:AI och demokratins framtid
DESCRIPTION:Panelsamtal med Alice Berggren\, redaktör på bokförlaget Daidalos\, och våra riksdagspolitiker Vasiliki Tsouplaki och Malin Östh. Vi kommer diskutera hur AIs framväxt kan tänkas påverka dagens och framtidens demokrati\, och hur vårt parti ska förhålla oss till det. Kommer vi lämna vårt öde åt en klok AI eller bli vilseledda av elaka propagandabottar? \nFika kl 18:00\, mötesstart 18:30.
URL:https://sodermalm.vansterpartiet.se/event/ai-och-demokratins-framtid/
LOCATION:Södergården\, Götgatan 37\, Blå salongen\, Götgatan 37\, Stockholm\, Sverige
END:VEVENT
END:VCALENDAR