BEGIN:VCALENDAR
VERSION:2.0
PRODID:-//Vänsterpartiet Södermalm - ECPv6.15.20//NONSGML v1.0//EN
CALSCALE:GREGORIAN
METHOD:PUBLISH
X-WR-CALNAME:Vänsterpartiet Södermalm
X-ORIGINAL-URL:https://sodermalm.vansterpartiet.se
X-WR-CALDESC:Händelser för Vänsterpartiet Södermalm
REFRESH-INTERVAL;VALUE=DURATION:PT1H
X-Robots-Tag:noindex
X-PUBLISHED-TTL:PT1H
BEGIN:VTIMEZONE
TZID:Europe/Stockholm
BEGIN:DAYLIGHT
TZOFFSETFROM:+0100
TZOFFSETTO:+0200
TZNAME:CEST
DTSTART:20240331T010000
END:DAYLIGHT
BEGIN:STANDARD
TZOFFSETFROM:+0200
TZOFFSETTO:+0100
TZNAME:CET
DTSTART:20241027T010000
END:STANDARD
BEGIN:DAYLIGHT
TZOFFSETFROM:+0100
TZOFFSETTO:+0200
TZNAME:CEST
DTSTART:20250330T010000
END:DAYLIGHT
BEGIN:STANDARD
TZOFFSETFROM:+0200
TZOFFSETTO:+0100
TZNAME:CET
DTSTART:20251026T010000
END:STANDARD
BEGIN:DAYLIGHT
TZOFFSETFROM:+0100
TZOFFSETTO:+0200
TZNAME:CEST
DTSTART:20260329T010000
END:DAYLIGHT
BEGIN:STANDARD
TZOFFSETFROM:+0200
TZOFFSETTO:+0100
TZNAME:CET
DTSTART:20261025T010000
END:STANDARD
END:VTIMEZONE
BEGIN:VEVENT
DTSTART;TZID=Europe/Stockholm:20250514T180000
DTEND;TZID=Europe/Stockholm:20250514T200000
DTSTAMP:20260425T122715
CREATED:20250514T090710Z
LAST-MODIFIED:20250514T090710Z
UID:835-1747245600-1747252800@sodermalm.vansterpartiet.se
SUMMARY:Försvarspolitik ur ett vänsterperspektiv
DESCRIPTION:Det planeras en kraftig militär upprustning i Europa och även i Sverige höjs försvarsanslagen. \nÄr Sverige hotat? Vad krävs för att ett litet land som Sverige ska kunna försvara sig? Vilken betydelse har en fungerande sjukvård\, energiförsörjning\, fungerande järnväg och annan infrastruktur? Vilket är förhållandet mellan det rent militära och det civila totalförsvaret? \nKom och hör Hanna Gunnarsson\, Vänsterpartiets försvarspolitiska talesperson och ledamot av försvarsutskottet. Vi bjuder på fika!
URL:https://sodermalm.vansterpartiet.se/event/forsvarspolitik-ur-ett-vansterperspektiv/
LOCATION:Havregatan 4\, Havregatan 4
END:VEVENT
END:VCALENDAR