BEGIN:VCALENDAR
VERSION:2.0
PRODID:-//Vänsterpartiet Södermalm - ECPv6.15.20//NONSGML v1.0//EN
CALSCALE:GREGORIAN
METHOD:PUBLISH
X-ORIGINAL-URL:https://sodermalm.vansterpartiet.se
X-WR-CALDESC:Händelser för Vänsterpartiet Södermalm
REFRESH-INTERVAL;VALUE=DURATION:PT1H
X-Robots-Tag:noindex
X-PUBLISHED-TTL:PT1H
BEGIN:VTIMEZONE
TZID:Europe/Stockholm
BEGIN:DAYLIGHT
TZOFFSETFROM:+0100
TZOFFSETTO:+0200
TZNAME:CEST
DTSTART:20230326T010000
END:DAYLIGHT
BEGIN:STANDARD
TZOFFSETFROM:+0200
TZOFFSETTO:+0100
TZNAME:CET
DTSTART:20231029T010000
END:STANDARD
BEGIN:DAYLIGHT
TZOFFSETFROM:+0100
TZOFFSETTO:+0200
TZNAME:CEST
DTSTART:20240331T010000
END:DAYLIGHT
BEGIN:STANDARD
TZOFFSETFROM:+0200
TZOFFSETTO:+0100
TZNAME:CET
DTSTART:20241027T010000
END:STANDARD
BEGIN:DAYLIGHT
TZOFFSETFROM:+0100
TZOFFSETTO:+0200
TZNAME:CEST
DTSTART:20250330T010000
END:DAYLIGHT
BEGIN:STANDARD
TZOFFSETFROM:+0200
TZOFFSETTO:+0100
TZNAME:CET
DTSTART:20251026T010000
END:STANDARD
END:VTIMEZONE
BEGIN:VEVENT
DTSTART;TZID=Europe/Stockholm:20241023T183000
DTEND;TZID=Europe/Stockholm:20241023T203000
DTSTAMP:20260425T212650
CREATED:20241015T190506Z
LAST-MODIFIED:20241015T191446Z
UID:770-1729708200-1729715400@sodermalm.vansterpartiet.se
SUMMARY:Tar AI våra jobb??
DESCRIPTION:AI tränas på författare\, konstnärers och programmerares arbeten\, för att sen göra deras jobb. Skådespelare får sina ansikten och röster kopierade\, för att kunna bli utbytbara. Hur påverkas vårt framtida samhälle av att AI kan göra våra jobb? Leder det till helautomatisk lyxkommunism eller massarbetslöshet och fattigdom? \nSimon Norrthon\, ordförande för fackförbundet Scen & Film\, och riksdagsledamot Vasiliki Tsouplaki kommer till oss för att delta i ett panelsamtal och diskutera vad vi gör och bör göra för att vi AI ska ha en positiv inverkan på arbete. \nAlla är välkomna!
URL:https://sodermalm.vansterpartiet.se/event/tar-ai-vara-jobb/
LOCATION:Lilla Södergården\, Björns trädgård
END:VEVENT
END:VCALENDAR