BEGIN:VCALENDAR
VERSION:2.0
PRODID:-//Vänsterpartiet Södermalm - ECPv6.15.20//NONSGML v1.0//EN
CALSCALE:GREGORIAN
METHOD:PUBLISH
X-ORIGINAL-URL:https://sodermalm.vansterpartiet.se
X-WR-CALDESC:Händelser för Vänsterpartiet Södermalm
REFRESH-INTERVAL;VALUE=DURATION:PT1H
X-Robots-Tag:noindex
X-PUBLISHED-TTL:PT1H
BEGIN:VTIMEZONE
TZID:Europe/Stockholm
BEGIN:DAYLIGHT
TZOFFSETFROM:+0100
TZOFFSETTO:+0200
TZNAME:CEST
DTSTART:20230326T010000
END:DAYLIGHT
BEGIN:STANDARD
TZOFFSETFROM:+0200
TZOFFSETTO:+0100
TZNAME:CET
DTSTART:20231029T010000
END:STANDARD
BEGIN:DAYLIGHT
TZOFFSETFROM:+0100
TZOFFSETTO:+0200
TZNAME:CEST
DTSTART:20240331T010000
END:DAYLIGHT
BEGIN:STANDARD
TZOFFSETFROM:+0200
TZOFFSETTO:+0100
TZNAME:CET
DTSTART:20241027T010000
END:STANDARD
BEGIN:DAYLIGHT
TZOFFSETFROM:+0100
TZOFFSETTO:+0200
TZNAME:CEST
DTSTART:20250330T010000
END:DAYLIGHT
BEGIN:STANDARD
TZOFFSETFROM:+0200
TZOFFSETTO:+0100
TZNAME:CET
DTSTART:20251026T010000
END:STANDARD
END:VTIMEZONE
BEGIN:VEVENT
DTSTART;TZID=Europe/Stockholm:20241019T120000
DTEND;TZID=Europe/Stockholm:20241019T140000
DTSTAMP:20260425T212650
CREATED:20241015T183650Z
LAST-MODIFIED:20241015T191536Z
UID:757-1729339200-1729346400@sodermalm.vansterpartiet.se
SUMMARY:Röd lördag
DESCRIPTION:Häng med på Röd lördag på Götgatsbacken. Vi ger oss ut för att dela ut flygblad och kaffe till medborgare på Södermalm och pratar politik. Röd lördag är ett suveränt tillfälle för dig som är ny och vill lära känna dina kamrater. \nÄr du nervös inför att följa med? Det finns alltid erfarna partikamrater på plats som hjälper dig med både argument och tar med sig kaffe. \nVi ses på Röd lördag!
URL:https://sodermalm.vansterpartiet.se/event/rod-lordag/
LOCATION:Götgatsbacken\, Götgatsbacken
END:VEVENT
END:VCALENDAR